View In:
ArcGIS JavaScript
ArcGIS Online Map Viewer
ArcGIS Earth
Service Description: Digitální model povrchu České republiky (DMP) je určen pro 3D vizualizaci. Data jsou poskytována v souřadnicovém systému S-JTSK v Křovákově zobrazení.
Name: 3D/dmp
Description: Digitální model povrchu České republiky (DMP) je určen pro 3D vizualizaci. Data jsou poskytována v souřadnicovém systému S-JTSK v Křovákově zobrazení.
Single Fused Map Cache: true
Tile Info:
- Height: 256
- Width: 256
- DPI: 96
-
Levels of Detail: 14
- Format: LERC
- Compression Quality: 0.0
- LERC Error: 0.1
- Origin: X: -925000.0
Y: -920000.0
- Spatial Reference: 102067
(5514)
LatestVCSWkid(0)
Storage Info:
- Storage Format: esriMapCacheStorageModeCompactV2
- Packet Size: 128
Extent:
XMin: -905000.1452635676
YMin: -1228000.1189173013
XMax: -430000.14526356757
YMax: -934000.1189173013
Spatial Reference: 102067
(5514)
VCSWkid(8357)
LatestVCSWkid(8357)
Initial Extent:
XMin: -905000.1452635676
YMin: -1228000.1189173013
XMax: -430000.14526356757
YMax: -934000.1189173013
Spatial Reference: 102067
(5514)
VCSWkid(8357)
LatestVCSWkid(8357)
Full Extent:
XMin: -905000.1452635676
YMin: -1228000.1189173013
XMax: -430000.14526356757
YMax: -934000.1189173013
Spatial Reference: 102067
(5514)
VCSWkid(8357)
LatestVCSWkid(8357)
Pixel Size X: 0.5
Pixel Size Y: 0.5
Band Count: 1
Pixel Type: F32
RasterFunction Infos: {"rasterFunctionInfos": [{
"name": "None",
"description": "",
"help": ""
}]}
Mensuration Capabilities: Basic
Inspection Capabilities:
Has Histograms: true
Has Colormap: false
Has Multi Dimensions : false
Rendering Rule:
Min Scale: 7741440
Max Scale: 945
Resampling: true
Copyright Text: © ČÚZK
Service Data Type: esriImageServiceDataTypeGeneric
Min Values: -679.1300048828125
Max Values: 1646.8199462890625
Mean Values: 453.98052800107627
Standard Deviation Values: 182.55120644122994
Object ID Field:
Fields:
None
Default Mosaic Method: Center
Allowed Mosaic Methods:
SortField:
SortValue: null
Mosaic Operator: First
Default Compression Quality: 75
Default Resampling Method: Bilinear
Max Record Count: null
Max Image Height: 4100
Max Image Width: 15000
Max Download Image Count: null
Max Mosaic Image Count: null
Allow Raster Function: true
Allow Copy: true
Allow Analysis: true
Allow Compute TiePoints: false
Supports Statistics: false
Supports Advanced Queries: false
Use StandardizedQueries: true
Raster Type Infos:
Name: Raster Dataset
Description: Supports all ArcGIS Raster Datasets
Help:
Has Raster Attribute Table: false
Edit Fields Info: null
Ownership Based AccessControl For Rasters: null
Child Resources:
Info
Histograms
Statistics
Key Properties
Legend
Raster Function Infos
Supported Operations:
Export Image
Identify
Measure
Compute Histograms
Compute Statistics Histograms
Get Samples
Compute Class Statistics
Query Boundary
Compute Pixel Location
Compute Angles
Validate
Project
EstimateExportTilesSize
ExportTiles