{
 "currentVersion": 11.5,
 "serviceDescription": "Digitální model povrchu České republiky (DMP) je určen pro 3D vizualizaci. Data jsou poskytována v souřadnicovém systému S-JTSK v Křovákově zobrazení.",
 "name": "3D/dmp",
 "description": "Digitální model povrchu České republiky (DMP) je určen pro 3D vizualizaci. Data jsou poskytována v souřadnicovém systému S-JTSK v Křovákově zobrazení.",
 "extent": {
  "xmin": -905000.1452635676,
  "ymin": -1228000.1189173013,
  "xmax": -430000.14526356757,
  "ymax": -934000.1189173013,
  "spatialReference": {
   "wkid": 102067,
   "latestWkid": 5514,
   "vcsWkid": 8357,
   "latestVcsWkid": 8357
  }
 },
 "initialExtent": {
  "xmin": -905000.1452635676,
  "ymin": -1228000.1189173013,
  "xmax": -430000.14526356757,
  "ymax": -934000.1189173013,
  "spatialReference": {
   "wkid": 102067,
   "latestWkid": 5514,
   "vcsWkid": 8357,
   "latestVcsWkid": 8357
  }
 },
 "fullExtent": {
  "xmin": -905000.1452635676,
  "ymin": -1228000.1189173013,
  "xmax": -430000.14526356757,
  "ymax": -934000.1189173013,
  "spatialReference": {
   "wkid": 102067,
   "latestWkid": 5514,
   "vcsWkid": 8357,
   "latestVcsWkid": 8357
  }
 },
 "sortableFields": "",
 "heightModelInfo": {
  "heightModel": "gravity_related_height",
  "vertCRS": "Baltic_1957_height",
  "heightUnit": "meter"
 },
 "bandCount": 1,
 "pixelType": "F32",
 "minValues": [
  -679.1300048828125
 ],
 "maxValues": [
  1646.8199462890625
 ],
 "meanValues": [
  453.98052800107627
 ],
 "stdvValues": [
  182.55120644122994
 ],
 "serviceProperties": "Center<\/MosaicMethod>First<\/MosaicOperator>true<\/SortAscending><\/LockImageID><\/TileOrderField>0<\/TileOrderBase>0,000000<\/AvgImageSpacingX>0,000000<\/AvgImageSpacingY>0.0<\/ViewPointX>0.0<\/ViewPointY>0.0<\/ViewPointDefShiftX>0.0<\/ViewPointDefShiftY>None<\/CompressionMethod>75<\/CompressionQuality>0,010000<\/CompressionTolerance>Bilinear<\/SamplingMethod><\/ImageServiceProperties><\/ImageServer>",
 "allowedFields": "",
 "hasMultidimensions": false,
 "pixelSizeX": 0.5,
 "pixelSizeY": 0.5,
 "meanPixelSize": 0.5,
 "datasetFormat": "FGDBR",
 "uncompressedSize": 2234400000000,
 "blockWidth": 128,
 "blockHeight": 128,
 "compressionType": "LZ77",
 "bandNames": [
  "Band_1"
 ],
 "allowCopy": true,
 "allowAnalysis": true,
 "itemAccess": false,
 "inspectionCapabilities": "",
 "minPixelSize": 0.25003175006350015,
 "maxPixelSize": 2048.260096520193,
 "copyrightText": "© ČÚZK",
 "serviceDataType": "esriImageServiceDataTypeGeneric",
 "serviceSourceType": "esriImageServiceSourceTypeDataset",
 "objectIdField": "",
 "fields": [],
 "capabilities": "Mensuration,Image,Metadata",
 "defaultMosaicMethod": "Center",
 "allowedMosaicMethods": "",
 "sortField": "",
 "sortValue": null,
 "sortAscending": true,
 "mosaicOperator": "First",
 "defaultCompressionQuality": 75,
 "defaultResamplingMethod": "Bilinear",
 "maxImageHeight": 4100,
 "maxImageWidth": 15000,
 "singleFusedMapCache": true,
 "tileInfo": {
  "rows": 256,
  "cols": 256,
  "dpi": 96,
  "format": "LERC",
  "compressionQuality": 0,
  "lercError": 0.1,
  "origin": {
   "x": -925000,
   "y": -920000
  },
  "spatialReference": {
   "wkid": 102067,
   "latestWkid": 5514
  },
  "lods": [
   {
    "level": 0,
    "resolution": 2048.260096520193,
    "scale": 7741440
   },
   {
    "level": 1,
    "resolution": 1024.1300482600966,
    "scale": 3870720
   },
   {
    "level": 2,
    "resolution": 512.0650241300483,
    "scale": 1935360
   },
   {
    "level": 3,
    "resolution": 256.03251206502415,
    "scale": 967680
   },
   {
    "level": 4,
    "resolution": 128.01625603251208,
    "scale": 483840
   },
   {
    "level": 5,
    "resolution": 64.00812801625604,
    "scale": 241920
   },
   {
    "level": 6,
    "resolution": 32.00406400812802,
    "scale": 120960
   },
   {
    "level": 7,
    "resolution": 16.00203200406401,
    "scale": 60480
   },
   {
    "level": 8,
    "resolution": 8.001016002032005,
    "scale": 30240
   },
   {
    "level": 9,
    "resolution": 4.000508001016002,
    "scale": 15120
   },
   {
    "level": 10,
    "resolution": 2.000254000508001,
    "scale": 7560
   },
   {
    "level": 11,
    "resolution": 1.0001270002540006,
    "scale": 3780
   },
   {
    "level": 12,
    "resolution": 0.5000635001270003,
    "scale": 1890
   },
   {
    "level": 13,
    "resolution": 0.25003175006350015,
    "scale": 945
   }
  ]
 },
 "storageInfo": {
  "storageFormat": "esriMapCacheStorageModeCompactV2",
  "packetSize": 128
 },
 "cacheType": "Elevation",
 "allowRasterFunction": true,
 "rasterFunctionInfos": [
  {
   "name": "None",
   "description": "",
   "help": ""
  }
 ],
 "rasterTypeInfos": [
  {
   "name": "Raster Dataset",
   "description": "Supports all ArcGIS Raster Datasets",
   "help": ""
  }
 ],
 "mensurationCapabilities": "Basic",
 "hasHistograms": true,
 "hasColormap": false,
 "hasRasterAttributeTable": false,
 "minScale": 7741440,
 "maxScale": 945,
 "exportTilesAllowed": true,
 "maxExportTilesCount": 100000,
 "supportsStatistics": false,
 "supportsAdvancedQueries": false,
 "editFieldsInfo": null,
 "ownershipBasedAccessControlForRasters": null,
 "allowComputeTiePoints": false,
 "useStandardizedQueries": true,
 "advancedQueryCapabilities": {
  "useStandardizedQueries": true,
  "supportsStatistics": false,
  "supportsOrderBy": false,
  "supportsDistinct": false,
  "supportsPagination": false
 },
 "spatialReference": {
  "wkid": 102067,
  "latestWkid": 5514,
  "vcsWkid": 8357,
  "latestVcsWkid": 8357
 },
 "resampling": true
}
