View In:
ArcGIS JavaScript
ArcGIS Online Map Viewer
ArcGIS Earth
Service Description: Digitální model reliefu České republiky 4. generace (DMR 4G) určen pro 3D vizualizaci. Data jsou poskytována v souřadnicovém systému S-JTSK v Křovákově zobrazení.
Name: 3D/dmr4g
Description: Digitální model reliefu České republiky 4. generace (DMR 4G) určen pro 3D vizualizaci. Data jsou poskytována v souřadnicovém systému S-JTSK v Křovákově zobrazení.
Single Fused Map Cache: true
Tile Info:
- Height: 256
- Width: 256
- DPI: 96
-
Levels of Detail: 14
- Format: LERC
- Compression Quality: 0.0
- LERC Error: 0.1
- Origin: X: -925000.0
Y: -920000.0
- Spatial Reference: 102067
(5514)
LatestVCSWkid(0)
Storage Info:
- Storage Format: esriMapCacheStorageModeCompactV2
- Packet Size: 128
Extent:
XMin: -905000.6452635676
YMin: -1228001.1189173013
XMax: -430000.64526356757
YMax: -934001.1189173013
Spatial Reference: 102067
(5514)
VCSWkid(8357)
LatestVCSWkid(8357)
Initial Extent:
XMin: -905000.6452635676
YMin: -1228001.1189173013
XMax: -430000.64526356757
YMax: -934001.1189173013
Spatial Reference: 102067
(5514)
VCSWkid(8357)
LatestVCSWkid(8357)
Full Extent:
XMin: -905000.6452635676
YMin: -1228001.1189173013
XMax: -430000.64526356757
YMax: -934001.1189173013
Spatial Reference: 102067
(5514)
VCSWkid(8357)
LatestVCSWkid(8357)
Pixel Size X: 5.0
Pixel Size Y: 5.0
Band Count: 1
Pixel Type: F32
RasterFunction Infos: {"rasterFunctionInfos": [{
"name": "None",
"description": "",
"help": ""
}]}
Mensuration Capabilities: Basic
Inspection Capabilities:
Has Histograms: true
Has Colormap: false
Has Multi Dimensions : false
Rendering Rule:
Min Scale: 7741440
Max Scale: 945
Resampling: true
Copyright Text: © ČÚZK
Service Data Type: esriImageServiceDataTypeGeneric
Min Values: 9.763055801391602
Max Values: 1603.2691650390625
Mean Values: 448.16046813787233
Standard Deviation Values: 180.49065544955323
Object ID Field: OBJECTID
Fields:
-
OBJECTID
(
type: esriFieldTypeOID, alias: OBJECTID
)
-
Shape
(
type: esriFieldTypeGeometry, alias: Shape
)
-
Name
(
type: esriFieldTypeString, alias: Name, length: 200
)
-
MinPS
(
type: esriFieldTypeDouble, alias: MinPS
)
-
MaxPS
(
type: esriFieldTypeDouble, alias: MaxPS
)
-
LowPS
(
type: esriFieldTypeDouble, alias: LowPS
)
-
HighPS
(
type: esriFieldTypeDouble, alias: HighPS
)
-
Category
(
type: esriFieldTypeInteger, alias: Category
, Coded Values:
[0: Unknown]
, [1: Primary]
, [2: Overview]
, ...6 more...
)
-
Tag
(
type: esriFieldTypeString, alias: Tag, length: 100
)
-
GroupName
(
type: esriFieldTypeString, alias: GroupName, length: 100
)
-
ProductName
(
type: esriFieldTypeString, alias: ProductName, length: 100
)
-
CenterX
(
type: esriFieldTypeDouble, alias: CenterX
)
-
CenterY
(
type: esriFieldTypeDouble, alias: CenterY
)
-
ZOrder
(
type: esriFieldTypeInteger, alias: ZOrder
)
-
Shape_Length
(
type: esriFieldTypeDouble, alias: Shape_Length
)
-
Shape_Area
(
type: esriFieldTypeDouble, alias: Shape_Area
)
Default Mosaic Method: Northwest
Allowed Mosaic Methods: NorthWest,Center,LockRaster,ByAttribute,Nadir,Viewpoint,Seamline,None
SortField:
SortValue: null
Mosaic Operator: First
Default Compression Quality: 75
Default Resampling Method: Bilinear
Max Record Count: 1000
Max Image Height: 4100
Max Image Width: 15000
Max Download Image Count: 20
Max Mosaic Image Count: 20
Allow Raster Function: true
Allow Copy: true
Allow Analysis: true
Allow Compute TiePoints: false
Supports Statistics: true
Supports Advanced Queries: true
Use StandardizedQueries: true
Raster Type Infos:
Name: Raster Dataset
Description: Supports all ArcGIS Raster Datasets
Help:
Has Raster Attribute Table: false
Edit Fields Info: null
Ownership Based AccessControl For Rasters: null
Child Resources:
Info
Histograms
Statistics
Key Properties
Legend
Raster Function Infos
Supported Operations:
Export Image
Query
Identify
Measure
Compute Histograms
Compute Statistics Histograms
Get Samples
Compute Class Statistics
Query GPS Info
Find Images
Image to Map
Map to Image
Measure from Image
Image to Map Multiray
Query Boundary
Compute Pixel Location
Compute Angles
Validate
Project