{
 "documentInfo": {
  "Category": "",
  "Keywords": "Přehledová mapa ČR",
  "Version": "3.3.0",
  "Comments": "Webová služba poskytující Přehledovou mapu České republiky. Data jsou poskytována formou dlaždic v souřadnicovém systému S-JTSK v Křovákově zobrazení.",
  "AntialiasingMode": "Fast",
  "Title": "Přehledová mapa ČR",
  "Author": "",
  "TextAntialiasingMode": "Force",
  "Subject": "Přehledová mapa ČR"
 },
 "maxImageWidth": 4096,
 "maxRecordCount": 2000,
 "tileInfo": {
  "lods": [
   {
    "level": 0,
    "scale": 7741440,
    "resolution": 2048.2600965201932
   },
   {
    "level": 1,
    "scale": 3870720,
    "resolution": 1024.1300482600966
   },
   {
    "level": 2,
    "scale": 1935360,
    "resolution": 512.0650241300483
   },
   {
    "level": 3,
    "scale": 967680,
    "resolution": 256.03251206502415
   },
   {
    "level": 4,
    "scale": 483840,
    "resolution": 128.01625603251208
   },
   {
    "level": 5,
    "scale": 241920,
    "resolution": 64.008128016256038
   },
   {
    "level": 6,
    "scale": 120960,
    "resolution": 32.004064008128019
   },
   {
    "level": 7,
    "scale": 60480,
    "resolution": 16.002032004064009
   },
   {
    "level": 8,
    "scale": 30240,
    "resolution": 8.0010160020320047
   },
   {
    "level": 9,
    "scale": 15120,
    "resolution": 4.0005080010160023
   },
   {
    "level": 10,
    "scale": 7560,
    "resolution": 2.0002540005080012
   },
   {
    "level": 11,
    "scale": 3780,
    "resolution": 1.0001270002540006
   },
   {
    "level": 12,
    "scale": 1890,
    "resolution": 0.50006350012700029
   },
   {
    "level": 13,
    "scale": 945,
    "resolution": 0.25003175006350015
   }
  ],
  "origin": {
   "x": -925000,
   "y": -920000
  },
  "format": "MIXED",
  "compressionQuality": 90,
  "rows": 256,
  "dpi": 96,
  "spatialReference": {
   "falseM": -100000,
   "xyTolerance": 0.001,
   "mUnits": 10000,
   "zUnits": 10000,
   "latestWkid": 5514,
   "zTolerance": 0.001,
   "wkid": 102067,
   "xyUnits": 10000,
   "mTolerance": 0.001,
   "falseX": -33699800,
   "falseY": -33699800,
   "falseZ": -100000
  },
  "cols": 256
 },
 "description": "Webová služba poskytující Přehledovou mapu České republiky. Data jsou poskytována formou dlaždic v souřadnicovém systému S-JTSK v Křovákově zobrazení.",
 "datesInUnknownTimezone": false,
 "supportsQueryDomains": true,
 "units": "esriMeters",
 "maxSelectionCount": 2000,
 "supportedImageFormatTypes": "PNG32,PNG24,PNG,JPG,DIB,TIFF,EMF,PS,PDF,GIF,SVG,SVGZ,BMP",
 "supportsClipping": true,
 "exportTilesAllowed": true,
 "maxImageHeight": 4096,
 "tables": [],
 "supportsDatumTransformation": true,
 "cimVersion": "3.6.0",
 "supportsQueryDataElements": true,
 "layers": [
  {
   "subLayerIds": null,
   "maxScale": 0,
   "name": "Přehledová mapa",
   "defaultVisibility": true,
   "id": 0,
   "minScale": 0,
   "supportsDynamicLegends": true,
   "type": "Feature Layer",
   "parentLayerId": -1,
   "geometryType": "esriGeometryPolygon"
  }
 ],
 "mapName": "PrehledovaMapa",
 "minScale": 7741440,
 "archivingInfo": {
  "supportsHistoricMoment": false
 },
 "spatialReference": {
  "falseM": -100000,
  "xyTolerance": 0.001,
  "mUnits": 10000,
  "zUnits": 10000,
  "latestWkid": 5514,
  "zTolerance": 0.001,
  "wkid": 102067,
  "xyUnits": 10000,
  "mTolerance": 0.001,
  "falseX": -33699800,
  "falseY": -33699800,
  "falseZ": -100000
 },
 "fullExtent": {
  "ymin": -1227718.6268000007,
  "xmin": -905072.52699999884,
  "ymax": -934748.71669999883,
  "xmax": -431225.11659999937,
  "spatialReference": {
   "falseM": -100000,
   "xyTolerance": 0.001,
   "mUnits": 10000,
   "zUnits": 10000,
   "latestWkid": 5514,
   "zTolerance": 0.001,
   "wkid": 102067,
   "xyUnits": 10000,
   "mTolerance": 0.001,
   "falseX": -33699800,
   "falseY": -33699800,
   "falseZ": -100000
  }
 },
 "supportedExtensions": "WMSServer",
 "capabilities": "Map",
 "supportsDynamicLayers": false,
 "maxScale": 945,
 "singleFusedMapCache": true,
 "currentVersion": 12,
 "storageInfo": {
  "storageFormat": "esriMapCacheStorageModeCompactV2",
  "packetSize": 128
 },
 "resampling": true,
 "mapUnits": {
  "uwkid": 9001
 },
 "maxExportTilesCount": 100000,
 "referenceScale": 0,
 "supportsSpatialFilter": true,
 "supportedQueryFormats": "JSON, geoJSON, PBF",
 "initialExtent": {
  "ymin": -1694179.3018894549,
  "xmin": -1545310.2487257798,
  "ymax": -461946.02782290697,
  "xmax": 211277.61004993785,
  "spatialReference": {
   "falseM": -100000,
   "xyTolerance": 0.001,
   "mUnits": 10000,
   "zUnits": 10000,
   "latestWkid": 5514,
   "zTolerance": 0.001,
   "wkid": 102067,
   "xyUnits": 10000,
   "mTolerance": 0.001,
   "falseX": -33699800,
   "falseY": -33699800,
   "falseZ": -100000
  }
 },
 "serviceDescription": "Webová služba poskytující Přehledovou mapu České republiky. Data jsou poskytována formou dlaždic v souřadnicovém systému S-JTSK v Křovákově zobrazení.",
 "copyrightText": "https://geoportal.cuzk.gov.cz/Dokumenty/Podminky.pdf",
 "supportsTimeRelation": true
}
